BEGIN:VCALENDAR
VERSION:2.0
PRODID:-//Tooting Gymnastics Club - ECPv5.14.2.1//NONSGML v1.0//EN
CALSCALE:GREGORIAN
METHOD:PUBLISH
X-WR-CALNAME:Tooting Gymnastics Club
X-ORIGINAL-URL:https://www.tootinggymclub.co.uk
X-WR-CALDESC:Events for Tooting Gymnastics Club
BEGIN:VTIMEZONE
TZID:UTC
BEGIN:STANDARD
TZOFFSETFROM:+0000
TZOFFSETTO:+0000
TZNAME:UTC
DTSTART:20230101T000000
END:STANDARD
END:VTIMEZONE
BEGIN:VEVENT
DTSTART;TZID=UTC:20230508T160000
DTEND;TZID=UTC:20230508T200000
DTSTAMP:20260425T103050
CREATED:20221213T161442Z
LAST-MODIFIED:20221213T161442Z
UID:4157-1683561600-1683576000@www.tootinggymclub.co.uk
SUMMARY:No Gymnastics - Coronation Bank Holiday
DESCRIPTION:
URL:https://www.tootinggymclub.co.uk/event/no-gymnastics-coronation-bank-holiday/
END:VEVENT
END:VCALENDAR